BEGIN:VCALENDAR
VERSION:2.0
PRODID:-//Official Brigantine - ECPv4.9.14//NONSGML v1.0//EN
CALSCALE:GREGORIAN
METHOD:PUBLISH
X-WR-CALNAME:Official Brigantine
X-ORIGINAL-URL:https://brigantinebeach.org
X-WR-CALDESC:Events for Official Brigantine
BEGIN:VTIMEZONE
TZID:UTC
BEGIN:STANDARD
TZOFFSETFROM:+0000
TZOFFSETTO:+0000
TZNAME:UTC
DTSTART:20240101T000000
END:STANDARD
END:VTIMEZONE
BEGIN:VEVENT
DTSTART;TZID=UTC:20240831T080000
DTEND;TZID=UTC:20240831T120000
DTSTAMP:20260422T221034
CREATED:20240418T141158Z
LAST-MODIFIED:20240418T141206Z
UID:183710-1725091200-1725105600@brigantinebeach.org
SUMMARY:Brigantine Farmers Market
DESCRIPTION: \nWebsite: https://brigantinebeach.org/brigantine-farmers-market/ \nFacebook: https://www.facebook.com/brigantinefarmersmarket \n
URL:https://brigantinebeach.org/event/brigantine-farmers-market-16/
LOCATION:Brigantine Community School Parking Lot (Sheridan Place Side)\, 301 Sheridan Place\, Brigantine\, NJ\, 08203\, United States
END:VEVENT
END:VCALENDAR