BEGIN:VCALENDAR
VERSION:2.0
PRODID:-//Official Brigantine - ECPv4.9.14//NONSGML v1.0//EN
CALSCALE:GREGORIAN
METHOD:PUBLISH
X-WR-CALNAME:Official Brigantine
X-ORIGINAL-URL:https://brigantinebeach.org
X-WR-CALDESC:Events for Official Brigantine
BEGIN:VTIMEZONE
TZID:UTC
BEGIN:STANDARD
TZOFFSETFROM:+0000
TZOFFSETTO:+0000
TZNAME:UTC
DTSTART:20220101T000000
END:STANDARD
END:VTIMEZONE
BEGIN:VEVENT
DTSTART;VALUE=DATE:20220905
DTEND;VALUE=DATE:20220906
DTSTAMP:20260423T212152
CREATED:20211217T153457Z
LAST-MODIFIED:20211217T153457Z
UID:167262-1662336000-1662422399@brigantinebeach.org
SUMMARY:City Hall Closed - Labor Day
DESCRIPTION:
URL:https://brigantinebeach.org/event/city-hall-closed-labor-day-2/
END:VEVENT
END:VCALENDAR