BEGIN:VCALENDAR
VERSION:2.0
PRODID:-//Official Brigantine - ECPv4.9.14//NONSGML v1.0//EN
CALSCALE:GREGORIAN
METHOD:PUBLISH
X-WR-CALNAME:Official Brigantine
X-ORIGINAL-URL:https://brigantinebeach.org
X-WR-CALDESC:Events for Official Brigantine
BEGIN:VTIMEZONE
TZID:UTC
BEGIN:STANDARD
TZOFFSETFROM:+0000
TZOFFSETTO:+0000
TZNAME:UTC
DTSTART:20210101T000000
END:STANDARD
END:VTIMEZONE
BEGIN:VEVENT
DTSTART;TZID=UTC:20210609T190000
DTEND;TZID=UTC:20210609T200000
DTSTAMP:20260423T141726
CREATED:20210505T144404Z
LAST-MODIFIED:20210505T144436Z
UID:66832-1623265200-1623268800@brigantinebeach.org
SUMMARY:2021 Summer Concert Series - Jim Craine & Atlantic City All Stars
DESCRIPTION:Free Concert Series \nConcerts will be held at: \nBrigantine Beach Community Center Lawn \nBring a chair or blanket (chairs will not be provided) \nOutside – Weather Permitting \n  \n
URL:https://brigantinebeach.org/event/2021-summer-concert-series-jim-craine-atlantic-city-all-stars/
LOCATION:Brigantine Beach Community Center\, 265 42nd Street South\, Brigantine\, New Jersey\, 08203
END:VEVENT
END:VCALENDAR