BEGIN:VCALENDAR
VERSION:2.0
PRODID:-//Official Brigantine - ECPv4.9.14//NONSGML v1.0//EN
CALSCALE:GREGORIAN
METHOD:PUBLISH
X-WR-CALNAME:Official Brigantine
X-ORIGINAL-URL:https://brigantinebeach.org
X-WR-CALDESC:Events for Official Brigantine
BEGIN:VTIMEZONE
TZID:UTC
BEGIN:STANDARD
TZOFFSETFROM:+0000
TZOFFSETTO:+0000
TZNAME:UTC
DTSTART:20200101T000000
END:STANDARD
END:VTIMEZONE
BEGIN:VEVENT
DTSTART;TZID=UTC:20200321T130000
DTEND;TZID=UTC:20200321T143000
DTSTAMP:20260423T033327
CREATED:20200214T204832Z
LAST-MODIFIED:20200313T160153Z
UID:3623-1584795600-1584801000@brigantinebeach.org
SUMMARY:** Cancelled** - Brigantine St. Patrick's Day Parade
DESCRIPTION:Come out to watch or join in the 2nd annual St. Patrick’s Day Parade.  Line up will begin at St. Thomas Church parking lot on 8th Street South and W Brigantine Ave.  The route will proceed down W Brigantine Ave to Veterans Triangle on 32nd Street. Visit www.brigantineirish.com for more details. \n
URL:https://brigantinebeach.org/event/brigantine-st-patricks-day-parade/
LOCATION:W. Brigantine Avenue\, Brigantine\, NJ
END:VEVENT
END:VCALENDAR