BEGIN:VCALENDAR
VERSION:2.0
PRODID:-//Official Brigantine - ECPv4.9.14//NONSGML v1.0//EN
CALSCALE:GREGORIAN
METHOD:PUBLISH
X-WR-CALNAME:Official Brigantine
X-ORIGINAL-URL:https://brigantinebeach.org
X-WR-CALDESC:Events for Official Brigantine
BEGIN:VTIMEZONE
TZID:UTC
BEGIN:STANDARD
TZOFFSETFROM:+0000
TZOFFSETTO:+0000
TZNAME:UTC
DTSTART:20200101T000000
END:STANDARD
END:VTIMEZONE
BEGIN:VEVENT
DTSTART;VALUE=DATE:20200101
DTEND;VALUE=DATE:20200102
DTSTAMP:20260423T055812
CREATED:20200118T161356Z
LAST-MODIFIED:20200118T161356Z
UID:3385-1577836800-1577923199@brigantinebeach.org
SUMMARY:2020 New Year’s Day
DESCRIPTION:
URL:https://brigantinebeach.org/event/2020-new-years-day/
CATEGORIES:Holiday
END:VEVENT
END:VCALENDAR