BEGIN:VCALENDAR
VERSION:2.0
PRODID:-//Official Brigantine - ECPv4.9.14//NONSGML v1.0//EN
CALSCALE:GREGORIAN
METHOD:PUBLISH
X-WR-CALNAME:Official Brigantine
X-ORIGINAL-URL:https://brigantinebeach.org
X-WR-CALDESC:Events for Official Brigantine
BEGIN:VTIMEZONE
TZID:UTC
BEGIN:STANDARD
TZOFFSETFROM:+0000
TZOFFSETTO:+0000
TZNAME:UTC
DTSTART:20230101T000000
END:STANDARD
END:VTIMEZONE
BEGIN:VEVENT
DTSTART;TZID=UTC:20230101T120000
DTEND;TZID=UTC:20230101T140000
DTSTAMP:20260423T154057
CREATED:20221025T201140Z
LAST-MODIFIED:20221025T202319Z
UID:179801-1672574400-1672581600@brigantinebeach.org
SUMMARY:Polar Bear Plunge 2023
DESCRIPTION:Visit Brigantine Polar Bear Plunge on Facebook \n  \n
URL:https://brigantinebeach.org/event/polar-bear-plunge-2023/
LOCATION:16th Street Beach Parking Lot\, 1602 Ocean Ave\, Brigantine\, 08203\, United States
END:VEVENT
END:VCALENDAR