BEGIN:VCALENDAR
VERSION:2.0
PRODID:-//Official Brigantine - ECPv4.9.14//NONSGML v1.0//EN
CALSCALE:GREGORIAN
METHOD:PUBLISH
X-WR-CALNAME:Official Brigantine
X-ORIGINAL-URL:https://brigantinebeach.org
X-WR-CALDESC:Events for Official Brigantine
BEGIN:VTIMEZONE
TZID:UTC
BEGIN:STANDARD
TZOFFSETFROM:+0000
TZOFFSETTO:+0000
TZNAME:UTC
DTSTART:20240101T000000
END:STANDARD
END:VTIMEZONE
BEGIN:VEVENT
DTSTART;TZID=UTC:20241023T180000
DTEND;TZID=UTC:20241023T200000
DTSTAMP:20260419T200057
CREATED:20240418T142628Z
LAST-MODIFIED:20240418T142635Z
UID:183740-1729706400-1729713600@brigantinebeach.org
SUMMARY:Planning Board Meeting
DESCRIPTION:
URL:https://brigantinebeach.org/event/planning-board-meeting-30/
LOCATION:City Hall\, 1417 W Brigantine Ave\, Brigantine\, NJ\, 08203\, United States
END:VEVENT
END:VCALENDAR