BEGIN:VCALENDAR
VERSION:2.0
PRODID:-//Official Brigantine - ECPv4.9.14//NONSGML v1.0//EN
CALSCALE:GREGORIAN
METHOD:PUBLISH
X-WR-CALNAME:Official Brigantine
X-ORIGINAL-URL:https://brigantinebeach.org
X-WR-CALDESC:Events for Official Brigantine
BEGIN:VTIMEZONE
TZID:UTC
BEGIN:STANDARD
TZOFFSETFROM:+0000
TZOFFSETTO:+0000
TZNAME:UTC
DTSTART:20240101T000000
END:STANDARD
END:VTIMEZONE
BEGIN:VEVENT
DTSTART;TZID=UTC:20240724T180000
DTEND;TZID=UTC:20240724T200000
DTSTAMP:20260424T002945
CREATED:20240418T142227Z
LAST-MODIFIED:20240418T142235Z
UID:183730-1721844000-1721851200@brigantinebeach.org
SUMMARY:Planning Board Meeting
DESCRIPTION:
URL:https://brigantinebeach.org/event/planning-board-meeting-27/
LOCATION:City Hall\, 1417 W Brigantine Ave\, Brigantine\, NJ\, 08203\, United States
END:VEVENT
END:VCALENDAR