BEGIN:VCALENDAR
VERSION:2.0
PRODID:-//Official Brigantine - ECPv4.9.14//NONSGML v1.0//EN
CALSCALE:GREGORIAN
METHOD:PUBLISH
X-WR-CALNAME:Official Brigantine
X-ORIGINAL-URL:https://brigantinebeach.org
X-WR-CALDESC:Events for Official Brigantine
BEGIN:VTIMEZONE
TZID:UTC
BEGIN:STANDARD
TZOFFSETFROM:+0000
TZOFFSETTO:+0000
TZNAME:UTC
DTSTART:20240101T000000
END:STANDARD
END:VTIMEZONE
BEGIN:VEVENT
DTSTART;TZID=UTC:20240622T090000
DTEND;TZID=UTC:20240622T120000
DTSTAMP:20260424T044930
CREATED:20240605T134955Z
LAST-MODIFIED:20240605T135003Z
UID:184220-1719046800-1719057600@brigantinebeach.org
SUMMARY:PBA Local 204 Lt. Bill O'Brian Bike Rodeo
DESCRIPTION: \n
URL:https://brigantinebeach.org/event/pba-local-204-lt-bill-obrian-bike-rodeo/
LOCATION:City Hall\, 1417 W Brigantine Ave\, Brigantine\, NJ\, 08203\, United States
END:VEVENT
END:VCALENDAR