BEGIN:VCALENDAR
VERSION:2.0
PRODID:-//Official Brigantine - ECPv4.9.14//NONSGML v1.0//EN
CALSCALE:GREGORIAN
METHOD:PUBLISH
X-WR-CALNAME:Official Brigantine
X-ORIGINAL-URL:https://brigantinebeach.org
X-WR-CALDESC:Events for Official Brigantine
BEGIN:VTIMEZONE
TZID:UTC
BEGIN:STANDARD
TZOFFSETFROM:+0000
TZOFFSETTO:+0000
TZNAME:UTC
DTSTART:20210101T000000
END:STANDARD
END:VTIMEZONE
BEGIN:VEVENT
DTSTART;TZID=UTC:20211120T090000
DTEND;TZID=UTC:20211120T130000
DTSTAMP:20260422T114420
CREATED:20211008T131936Z
LAST-MODIFIED:20211008T131936Z
UID:142920-1637398800-1637413200@brigantinebeach.org
SUMMARY:Fall Farmers Market
DESCRIPTION: \n
URL:https://brigantinebeach.org/event/fall-farmers-market-3/
LOCATION:Brigantine Community School Parking Lot (Sheridan Place Side)\, 301 Sheridan Place\, Brigantine\, NJ\, 08203\, United States
END:VEVENT
END:VCALENDAR