BEGIN:VCALENDAR
VERSION:2.0
PRODID:-//Official Brigantine - ECPv4.9.14//NONSGML v1.0//EN
CALSCALE:GREGORIAN
METHOD:PUBLISH
X-WR-CALNAME:Official Brigantine
X-ORIGINAL-URL:https://brigantinebeach.org
X-WR-CALDESC:Events for Official Brigantine
BEGIN:VTIMEZONE
TZID:UTC
BEGIN:STANDARD
TZOFFSETFROM:+0000
TZOFFSETTO:+0000
TZNAME:UTC
DTSTART:20210101T000000
END:STANDARD
END:VTIMEZONE
BEGIN:VEVENT
DTSTART;TZID=UTC:20211203T173000
DTEND;TZID=UTC:20211203T183000
DTSTAMP:20260422T213905
CREATED:20211124T160555Z
LAST-MODIFIED:20211124T160555Z
UID:159872-1638552600-1638556200@brigantinebeach.org
SUMMARY:Brigantine's Annual Christmas Tree Lighting Ceremony
DESCRIPTION: \n
URL:https://brigantinebeach.org/event/brigantines-annual-christmas-tree-lighting-ceremony/
LOCATION:City of Brigantine\, 1417 W. Brigantine Ave\, BRIGANTINE\, NJ\, 08203\, United States
END:VEVENT
END:VCALENDAR