BEGIN:VCALENDAR
VERSION:2.0
PRODID:-//Official Brigantine - ECPv4.9.14//NONSGML v1.0//EN
CALSCALE:GREGORIAN
METHOD:PUBLISH
X-WR-CALNAME:Official Brigantine
X-ORIGINAL-URL:https://brigantinebeach.org
X-WR-CALDESC:Events for Official Brigantine
BEGIN:VTIMEZONE
TZID:UTC
BEGIN:STANDARD
TZOFFSETFROM:+0000
TZOFFSETTO:+0000
TZNAME:UTC
DTSTART:20240101T000000
END:STANDARD
END:VTIMEZONE
BEGIN:VEVENT
DTSTART;TZID=UTC:20240829T190000
DTEND;TZID=UTC:20240829T210000
DTSTAMP:20260423T010015
CREATED:20240418T132836Z
LAST-MODIFIED:20240418T132843Z
UID:183642-1724958000-1724965200@brigantinebeach.org
SUMMARY:Brigantine CER Summer Concert
DESCRIPTION:Bill and Tom- Irish Music \n  \nBring a chair or blanket to sit on. \n  \nFor further information contact the Brigantine Community Center @ 609-264-7350 ext.1 \n  \n
URL:https://brigantinebeach.org/event/brigantine-cer-summer-concert-5/
LOCATION:Brigantine Community Center Lawn\, 265 42nd St.\, Brigantine\, NJ\, 08203\, United States
END:VEVENT
END:VCALENDAR